BEGIN:VCALENDAR
VERSION:2.0
PRODID:-//Mac is Bac! Fleetwood Bac - ECPv6.15.11//NONSGML v1.0//EN
CALSCALE:GREGORIAN
METHOD:PUBLISH
X-WR-CALNAME:Mac is Bac! Fleetwood Bac
X-ORIGINAL-URL:https://www.fleetwoodbac.com
X-WR-CALDESC:Events for Mac is Bac! Fleetwood Bac
REFRESH-INTERVAL;VALUE=DURATION:PT1H
X-Robots-Tag:noindex
X-PUBLISHED-TTL:PT1H
BEGIN:VTIMEZONE
TZID:UTC
BEGIN:STANDARD
TZOFFSETFROM:+0000
TZOFFSETTO:+0000
TZNAME:UTC
DTSTART:20250101T000000
END:STANDARD
END:VTIMEZONE
BEGIN:VEVENT
DTSTART;TZID=UTC:20260418T193000
DTEND;TZID=UTC:20260418T230000
DTSTAMP:20260423T150713
CREATED:20250828T105220Z
LAST-MODIFIED:20250828T105220Z
UID:52229-1776540600-1776553200@www.fleetwoodbac.com
SUMMARY:Pyramid & Parr Hall - Warrington (ft. Roxette UK)
DESCRIPTION:
URL:https://www.fleetwoodbac.com/tourdates/pyramid-parr-hall-warrington-ft-roxette-uk/
LOCATION:Parr Hall\, Palmyra Square S\, Warrington\, WA1 1BL
END:VEVENT
BEGIN:VEVENT
DTSTART;TZID=UTC:20260417T193000
DTEND;TZID=UTC:20260417T223000
DTSTAMP:20260423T150713
CREATED:20250828T105043Z
LAST-MODIFIED:20260106T135051Z
UID:52227-1776454200-1776465000@www.fleetwoodbac.com
SUMMARY:Brudenell Social Club - Leeds
DESCRIPTION:
URL:https://www.fleetwoodbac.com/tourdates/brudenell-social-club-leeds/
LOCATION:Brudenell Social Club\, 33 Queen's Rd\, Burley\, Leeds\, LS6 1NY\, United Kingdom
END:VEVENT
BEGIN:VEVENT
DTSTART;TZID=UTC:20260411T193000
DTEND;TZID=UTC:20260411T223000
DTSTAMP:20260423T150713
CREATED:20250828T104957Z
LAST-MODIFIED:20250828T104957Z
UID:52225-1775935800-1775946600@www.fleetwoodbac.com
SUMMARY:Guildhall - Gloucester
DESCRIPTION:
URL:https://www.fleetwoodbac.com/tourdates/guildhall-gloucester/
LOCATION:Gloucester Guildhall\, 23 Eastgate St\, Gloucester\, GL1 1NS\, United Kingdom
END:VEVENT
BEGIN:VEVENT
DTSTART;TZID=UTC:20260410T193000
DTEND;TZID=UTC:20260410T230000
DTSTAMP:20260423T150713
CREATED:20251216T114226Z
LAST-MODIFIED:20251216T114226Z
UID:52306-1775849400-1775862000@www.fleetwoodbac.com
SUMMARY:The Riverfront - Newport
DESCRIPTION:
URL:https://www.fleetwoodbac.com/tourdates/the-riverfront-newport/
LOCATION:The Riverfront\, Kingsway\, Newport\, NP20 1HG\, United Kingdom
END:VEVENT
BEGIN:VEVENT
DTSTART;TZID=UTC:20260405T193000
DTEND;TZID=UTC:20260405T230000
DTSTAMP:20260423T150713
CREATED:20251216T113950Z
LAST-MODIFIED:20251216T113950Z
UID:52304-1775417400-1775430000@www.fleetwoodbac.com
SUMMARY:De Valence Pavilion - Tenby
DESCRIPTION:
URL:https://www.fleetwoodbac.com/tourdates/de-valence-pavilion-tenby/
LOCATION:De Valence Pavilion\, Upper Frog St\, Tenby\, SA70 7JD\, United Kingdom
END:VEVENT
BEGIN:VEVENT
DTSTART;TZID=UTC:20260404T193000
DTEND;TZID=UTC:20260404T223000
DTSTAMP:20260423T150713
CREATED:20250828T104859Z
LAST-MODIFIED:20250828T104859Z
UID:52223-1775331000-1775341800@www.fleetwoodbac.com
SUMMARY:The Lyric - Carmarthen
DESCRIPTION:
URL:https://www.fleetwoodbac.com/tourdates/the-lyric-carmarthen/
LOCATION:The Lyric\, 8 Furnace Road\, Carmarthen\, SA31 1EU\, United Kingdom
END:VEVENT
BEGIN:VEVENT
DTSTART;TZID=UTC:20260403T183000
DTEND;TZID=UTC:20260403T220000
DTSTAMP:20260423T150713
CREATED:20251216T113843Z
LAST-MODIFIED:20251216T113843Z
UID:52302-1775241000-1775253600@www.fleetwoodbac.com
SUMMARY:The Patti - Swansea
DESCRIPTION:
URL:https://www.fleetwoodbac.com/tourdates/the-patti-swansea/
LOCATION:Patti Pavilion\, Victoria park\, Mumbles Rd\, Swansea\, SA1 4PQ\, United Kingdom
END:VEVENT
BEGIN:VEVENT
DTSTART;TZID=UTC:20260402T190000
DTEND;TZID=UTC:20260402T220000
DTSTAMP:20260423T150713
CREATED:20250828T104724Z
LAST-MODIFIED:20250828T104724Z
UID:52221-1775156400-1775167200@www.fleetwoodbac.com
SUMMARY:The Beaufort Theatre - Ebbw Vale
DESCRIPTION:
URL:https://www.fleetwoodbac.com/tourdates/the-beaufort-theatre-ebbw-vale/
LOCATION:The Beaufort Theatre\, Beaufort Hill\, Beaufort\, Ebbw Vale\, NP23 5QQ\, United Kingdom
END:VEVENT
BEGIN:VEVENT
DTSTART;TZID=UTC:20260328T193000
DTEND;TZID=UTC:20260328T230000
DTSTAMP:20260423T150713
CREATED:20251216T113014Z
LAST-MODIFIED:20260209T181206Z
UID:52296-1774726200-1774738800@www.fleetwoodbac.com
SUMMARY:The Apex - Bury St. Edmunds
DESCRIPTION:
URL:https://www.fleetwoodbac.com/tourdates/the-apex-bury-st-edmunds-2/
LOCATION:The Apex\, Charter Square\, Bury St Edmunds\, Suffolk\, IP33 3FD\, United Kingdom
END:VEVENT
BEGIN:VEVENT
DTSTART;TZID=UTC:20260327T190000
DTEND;TZID=UTC:20260327T220000
DTSTAMP:20260423T150713
CREATED:20250828T104453Z
LAST-MODIFIED:20260223T140727Z
UID:52217-1774638000-1774648800@www.fleetwoodbac.com
SUMMARY:O2 Academy - Islington
DESCRIPTION:
URL:https://www.fleetwoodbac.com/tourdates/o2-academy-islington/
LOCATION:O2 Academy Islington\, Angel Central\, London\, N1 0PS\, United Kingdom
END:VEVENT
END:VCALENDAR