BEGIN:VCALENDAR
VERSION:2.0
PRODID:-//Mac is Bac! Fleetwood Bac - ECPv6.15.11//NONSGML v1.0//EN
CALSCALE:GREGORIAN
METHOD:PUBLISH
X-ORIGINAL-URL:https://www.fleetwoodbac.com
X-WR-CALDESC:Events for Mac is Bac! Fleetwood Bac
REFRESH-INTERVAL;VALUE=DURATION:PT1H
X-Robots-Tag:noindex
X-PUBLISHED-TTL:PT1H
BEGIN:VTIMEZONE
TZID:UTC
BEGIN:STANDARD
TZOFFSETFROM:+0000
TZOFFSETTO:+0000
TZNAME:UTC
DTSTART:20250101T000000
END:STANDARD
END:VTIMEZONE
BEGIN:VEVENT
DTSTART;TZID=UTC:20261107T190000
DTEND;TZID=UTC:20261107T230000
DTSTAMP:20260424T070249
CREATED:20251216T144756Z
LAST-MODIFIED:20251216T144756Z
UID:52382-1794078000-1794092400@www.fleetwoodbac.com
SUMMARY:The Tivoli Venue - Buckley
DESCRIPTION:
URL:https://www.fleetwoodbac.com/tourdates/the-tivoli-venue-buckley/
LOCATION:The Tivoli Venue\, Brunswick Road\, Buckley\, CH7 2EF\, United Kingdom
END:VEVENT
END:VCALENDAR