BEGIN:VCALENDAR
VERSION:2.0
PRODID:-//Mac is Bac! Fleetwood Bac - ECPv6.15.11//NONSGML v1.0//EN
CALSCALE:GREGORIAN
METHOD:PUBLISH
X-ORIGINAL-URL:https://www.fleetwoodbac.com
X-WR-CALDESC:Events for Mac is Bac! Fleetwood Bac
REFRESH-INTERVAL;VALUE=DURATION:PT1H
X-Robots-Tag:noindex
X-PUBLISHED-TTL:PT1H
BEGIN:VTIMEZONE
TZID:UTC
BEGIN:STANDARD
TZOFFSETFROM:+0000
TZOFFSETTO:+0000
TZNAME:UTC
DTSTART:20250101T000000
END:STANDARD
END:VTIMEZONE
BEGIN:VEVENT
DTSTART;TZID=UTC:20260801T190000
DTEND;TZID=UTC:20260801T223000
DTSTAMP:20260424T002751
CREATED:20251216T141255Z
LAST-MODIFIED:20251216T141255Z
UID:52346-1785610800-1785623400@www.fleetwoodbac.com
SUMMARY:Gawsworth Hall - Macclesfield
DESCRIPTION:
URL:https://www.fleetwoodbac.com/tourdates/gawsworth-hall-macclesfield/
LOCATION:Gawsworth Hall\, Church Lane\, Gawsworth\, Cheshire\, SK11 9RN
END:VEVENT
BEGIN:VEVENT
DTSTART;TZID=UTC:20260802T190000
DTEND;TZID=UTC:20260802T223000
DTSTAMP:20260424T002751
CREATED:20251216T141330Z
LAST-MODIFIED:20251216T141330Z
UID:52348-1785697200-1785709800@www.fleetwoodbac.com
SUMMARY:Gawsworth Hall - Macclesfield
DESCRIPTION:
URL:https://www.fleetwoodbac.com/tourdates/gawsworth-hall-macclesfield-2/
LOCATION:Gawsworth Hall\, Church Lane\, Gawsworth\, Cheshire\, SK11 9RN
END:VEVENT
BEGIN:VEVENT
DTSTART;TZID=UTC:20260807T193000
DTEND;TZID=UTC:20260807T230000
DTSTAMP:20260424T002751
CREATED:20251216T141919Z
LAST-MODIFIED:20251216T141919Z
UID:52350-1786131000-1786143600@www.fleetwoodbac.com
SUMMARY:Corn Exchange - Blandford Forum
DESCRIPTION:
URL:https://www.fleetwoodbac.com/tourdates/corn-exchange-blandford-forum/
LOCATION:Corn Exchange Blandford Forum\, 17 Market Pl\, Blandford Forum\, DT11 7AG\, United Kingdom
END:VEVENT
BEGIN:VEVENT
DTSTART;TZID=UTC:20260808T193000
DTEND;TZID=UTC:20260808T223000
DTSTAMP:20260424T002751
CREATED:20251216T142049Z
LAST-MODIFIED:20251216T142049Z
UID:52353-1786217400-1786228200@www.fleetwoodbac.com
SUMMARY:The Wharf - Tavistock
DESCRIPTION:
URL:https://www.fleetwoodbac.com/tourdates/the-wharf-tavistock-2/
LOCATION:Tavistock Wharf\, Canal Rd\, Tavistock\, PL19 8AT\, United Kingdom
END:VEVENT
BEGIN:VEVENT
DTSTART;TZID=UTC:20260822T190000
DTEND;TZID=UTC:20260822T223000
DTSTAMP:20260424T002751
CREATED:20251216T142406Z
LAST-MODIFIED:20251216T142406Z
UID:52355-1787425200-1787437800@www.fleetwoodbac.com
SUMMARY:Concorde 2 - Brighton
DESCRIPTION:
URL:https://www.fleetwoodbac.com/tourdates/concorde-2-brighton/
LOCATION:Concorde 2\, 286A Madeira Dr\, Brighton\, BN2 1EN\, United Kingdom
END:VEVENT
END:VCALENDAR