BEGIN:VCALENDAR
VERSION:2.0
PRODID:-//Mac is Bac! Fleetwood Bac - ECPv6.15.11//NONSGML v1.0//EN
CALSCALE:GREGORIAN
METHOD:PUBLISH
X-ORIGINAL-URL:https://www.fleetwoodbac.com
X-WR-CALDESC:Events for Mac is Bac! Fleetwood Bac
REFRESH-INTERVAL;VALUE=DURATION:PT1H
X-Robots-Tag:noindex
X-PUBLISHED-TTL:PT1H
BEGIN:VTIMEZONE
TZID:UTC
BEGIN:STANDARD
TZOFFSETFROM:+0000
TZOFFSETTO:+0000
TZNAME:UTC
DTSTART:20250101T000000
END:STANDARD
END:VTIMEZONE
BEGIN:VEVENT
DTSTART;TZID=UTC:20260904T190000
DTEND;TZID=UTC:20260904T223000
DTSTAMP:20260424T020521
CREATED:20251216T142529Z
LAST-MODIFIED:20251216T142529Z
UID:52357-1788548400-1788561000@www.fleetwoodbac.com
SUMMARY:Birdwell Venue - Barnsley
DESCRIPTION:
URL:https://www.fleetwoodbac.com/tourdates/birdwell-venue-barnsley/
LOCATION:Birdwell Venue\, Sheffield Rd\, Birdwell\, Barnsley\, S70 5UY\, United Kingdom
END:VEVENT
BEGIN:VEVENT
DTSTART;TZID=UTC:20260905T193000
DTEND;TZID=UTC:20260905T230000
DTSTAMP:20260424T020521
CREATED:20251216T142745Z
LAST-MODIFIED:20251216T142745Z
UID:52359-1788636600-1788649200@www.fleetwoodbac.com
SUMMARY:The Epstein Theatre - Liverpool
DESCRIPTION:
URL:https://www.fleetwoodbac.com/tourdates/the-epstein-theatre-liverpool/
LOCATION:The Epstein Theatre\, 85 Hanover St\, Liverpool\, L1 3DZ\, United Kingdom
END:VEVENT
BEGIN:VEVENT
DTSTART;TZID=UTC:20260912T190000
DTEND;TZID=UTC:20260912T233000
DTSTAMP:20260424T020521
CREATED:20260302T205824Z
LAST-MODIFIED:20260306T142153Z
UID:52388-1789239600-1789255800@www.fleetwoodbac.com
SUMMARY:Mercadillo de Benijofar - Alicante\, Spain
DESCRIPTION:
URL:https://www.fleetwoodbac.com/tourdates/mercadillo-de-benijofar-alicante-spain/
LOCATION:Mercadillo de Benijofar\, CV-920\, 77-69\, Benijófar\, Alicante\, 03178\, Spain
END:VEVENT
BEGIN:VEVENT
DTSTART;TZID=UTC:20260917T190000
DTEND;TZID=UTC:20260917T223000
DTSTAMP:20260424T020521
CREATED:20251216T142909Z
LAST-MODIFIED:20251216T142909Z
UID:52362-1789671600-1789684200@www.fleetwoodbac.com
SUMMARY:Mac Arts - Galashiels
DESCRIPTION:
URL:https://www.fleetwoodbac.com/tourdates/mac-arts-galashiels/
LOCATION:MacArts\, Bridge St\, Galashiels\, TD1 1SP\, United Kingdom
END:VEVENT
BEGIN:VEVENT
DTSTART;TZID=UTC:20260918T193000
DTEND;TZID=UTC:20260918T223000
DTSTAMP:20260424T020521
CREATED:20251216T143201Z
LAST-MODIFIED:20251216T143236Z
UID:52364-1789759800-1789770600@www.fleetwoodbac.com
SUMMARY:Corn Exchange - Haddlington
DESCRIPTION:
URL:https://www.fleetwoodbac.com/tourdates/corn-exchange-haddlington/
LOCATION:Corn Exchange Haddlington\, 13 Court St\, Haddington\, EH41 3DS\, United Kingdom
END:VEVENT
BEGIN:VEVENT
DTSTART;TZID=UTC:20260919T190000
DTEND;TZID=UTC:20260919T223000
DTSTAMP:20260424T020521
CREATED:20251216T143337Z
LAST-MODIFIED:20251216T143338Z
UID:52367-1789844400-1789857000@www.fleetwoodbac.com
SUMMARY:Saint Luke's - Glasgow
DESCRIPTION:
URL:https://www.fleetwoodbac.com/tourdates/saint-lukes-glasgow/
LOCATION:Saint Luke’s\, 17 Bain St\, Glasgow\, G40 2JZ\, United Kingdom
END:VEVENT
BEGIN:VEVENT
DTSTART;TZID=UTC:20260924T193000
DTEND;TZID=UTC:20260924T223000
DTSTAMP:20260424T020521
CREATED:20251216T143516Z
LAST-MODIFIED:20251216T143516Z
UID:52369-1790278200-1790289000@www.fleetwoodbac.com
SUMMARY:Corn Exchange - Exeter
DESCRIPTION:
URL:https://www.fleetwoodbac.com/tourdates/corn-exchange-exeter/
LOCATION:Exeter Corn Exchange\, Market Street\, Exeter\, Devon\, EX1 1BW\, United Kingdom
END:VEVENT
END:VCALENDAR