BEGIN:VCALENDAR
VERSION:2.0
PRODID:-//Mac is Bac! Fleetwood Bac - ECPv6.15.11//NONSGML v1.0//EN
CALSCALE:GREGORIAN
METHOD:PUBLISH
X-ORIGINAL-URL:https://www.fleetwoodbac.com
X-WR-CALDESC:Events for Mac is Bac! Fleetwood Bac
REFRESH-INTERVAL;VALUE=DURATION:PT1H
X-Robots-Tag:noindex
X-PUBLISHED-TTL:PT1H
BEGIN:VTIMEZONE
TZID:UTC
BEGIN:STANDARD
TZOFFSETFROM:+0000
TZOFFSETTO:+0000
TZNAME:UTC
DTSTART:20250101T000000
END:STANDARD
END:VTIMEZONE
BEGIN:VEVENT
DTSTART;TZID=UTC:20260423T193000
DTEND;TZID=UTC:20260423T223000
DTSTAMP:20260423T144722
CREATED:20250828T105345Z
LAST-MODIFIED:20250828T105427Z
UID:52231-1776972600-1776983400@www.fleetwoodbac.com
SUMMARY:Old Fire Station - Carlisle
DESCRIPTION:
URL:https://www.fleetwoodbac.com/tourdates/old-fire-station-carlisle-spring-2026-1/
LOCATION:Old Fire Station\, Peter Street\, Carlisle\, CA3 8QP\, United Kingdom
END:VEVENT
BEGIN:VEVENT
DTSTART;TZID=UTC:20260424T193000
DTEND;TZID=UTC:20260424T223000
DTSTAMP:20260423T144722
CREATED:20250828T105552Z
LAST-MODIFIED:20260209T182518Z
UID:52233-1777059000-1777069800@www.fleetwoodbac.com
SUMMARY:Old Fire Station - Carlisle
DESCRIPTION:
URL:https://www.fleetwoodbac.com/tourdates/old-fire-station-carlisle-spring-2026-2/
LOCATION:Old Fire Station\, Peter Street\, Carlisle\, CA3 8QP\, United Kingdom
END:VEVENT
BEGIN:VEVENT
DTSTART;TZID=UTC:20260425T193000
DTEND;TZID=UTC:20260425T223000
DTSTAMP:20260423T144722
CREATED:20250828T105711Z
LAST-MODIFIED:20250828T105711Z
UID:52235-1777145400-1777156200@www.fleetwoodbac.com
SUMMARY:Rothes Halls - Glenrothes
DESCRIPTION:
URL:https://www.fleetwoodbac.com/tourdates/rothes-halls-glenrothes/
LOCATION:Rothes Halls\, Kingdom Shopping Centre\, Glenrothes\, KY7 5NX\, United Kingdom
END:VEVENT
BEGIN:VEVENT
DTSTART;TZID=UTC:20260430T193000
DTEND;TZID=UTC:20260430T230000
DTSTAMP:20260423T144722
CREATED:20251216T114652Z
LAST-MODIFIED:20251216T114652Z
UID:52308-1777577400-1777590000@www.fleetwoodbac.com
SUMMARY:Arts Centre - Salisbury
DESCRIPTION:
URL:https://www.fleetwoodbac.com/tourdates/arts-centre-salisbury/
LOCATION:Salisbury Arts Centre\, Bedwin St\, Salisbury\, SP1 3UT\, United Kingdom
END:VEVENT
END:VCALENDAR